BEGIN:VCALENDAR
VERSION:2.0
PRODID:-//Tukios.com/
BEGIN:VEVENT
UID:8208e8f5-7db3-488d-815e-f0f227c3e975@www.pbfuneraldirectors.com
DTSTAMP:20260421T160603Z
DTSTART:20260423T150000Z
DTEND:20260423T160000Z
SUMMARY:Graveside Service
DESCRIPTION:
URL:https://www.pbfuneraldirectors.com/obituaries/linda-harshberger
LOCATION:Elmwood Memorial Park Cemetery 5750 Hwy 277 South  Abilene TX 
	79605
GEO:32.3737372;-99.8464097
END:VEVENT
END:VCALENDAR