BEGIN:VCALENDAR
VERSION:2.0
PRODID:-//Tukios.com/
BEGIN:VEVENT
UID:f89d772c-dcf3-45b2-bda6-b2570c4754e7@www.pbfuneraldirectors.com
DTSTAMP:20260421T183827Z
DTSTART:20260501T200000Z
DTEND:20260501T220000Z
SUMMARY:Visitation
DESCRIPTION:
URL:https://www.pbfuneraldirectors.com/obituaries/bette-mitchell
LOCATION: 1198 Ambler Avenue  Abilene TX 79601
GEO:32.4749835;-99.7315847
END:VEVENT
END:VCALENDAR